Package: pfamAnalyzeR Version: 1.4.0 Command: /Library/Frameworks/R.framework/Resources/bin/R CMD INSTALL pfamAnalyzeR StartedAt: 2024-06-09 15:10:39 -0400 (Sun, 09 Jun 2024) EndedAt: 2024-06-09 15:10:46 -0400 (Sun, 09 Jun 2024) EllapsedTime: 6.8 seconds RetCode: 0 Status: OK