Package: pfamAnalyzeR Version: 1.4.0 Command: /home/biocbuild/R/R-beta-2024-04-15_r86425/bin/R CMD build --keep-empty-dirs --no-resave-data pfamAnalyzeR StartedAt: 2024-05-09 02:28:41 -0000 (Thu, 09 May 2024) EndedAt: 2024-05-09 02:28:50 -0000 (Thu, 09 May 2024) EllapsedTime: 9.0 seconds RetCode: 0 Status: OK PackageFile: pfamAnalyzeR_1.4.0.tar.gz PackageFileSize: 374.8 KiB