Package: pfamAnalyzeR Version: 1.4.0 Command: /home/biocbuild/R/R-beta-2024-04-15_r86425/bin/R CMD check --install=check:pfamAnalyzeR.install-out.txt --library=/home/biocbuild/R/R-beta-2024-04-15_r86425/site-library --no-vignettes --timings pfamAnalyzeR_1.4.0.tar.gz StartedAt: 2024-05-09 10:30:31 -0000 (Thu, 09 May 2024) EndedAt: 2024-05-09 10:31:02 -0000 (Thu, 09 May 2024) EllapsedTime: 31.1 seconds RetCode: 0 Status: OK CheckDir: pfamAnalyzeR.Rcheck Warnings: 0