Package: pfamAnalyzeR Version: 1.4.0 Command: rm -rf pfamAnalyzeR.buildbin-libdir && mkdir pfamAnalyzeR.buildbin-libdir && /Users/biocbuild/BBS/utils/build-universal.sh pfamAnalyzeR_1.4.0.tar.gz /Library/Frameworks/R.framework/Resources/bin/R pfamAnalyzeR.buildbin-libdir StartedAt: 2024-06-10 00:31:59 -0400 (Mon, 10 Jun 2024) EndedAt: 2024-06-10 00:32:06 -0400 (Mon, 10 Jun 2024) EllapsedTime: 6.8 seconds RetCode: 0 Status: OK PackageFile: pfamAnalyzeR_1.4.0.tgz PackageFileSize: 310.7 KiB