Package: pfamAnalyzeR Version: 1.4.0 Command: rm -rf pfamAnalyzeR.buildbin-libdir && mkdir pfamAnalyzeR.buildbin-libdir && /Users/biocbuild/BBS/utils/build-universal.sh pfamAnalyzeR_1.4.0.tar.gz /Library/Frameworks/R.framework/Resources/bin/R pfamAnalyzeR.buildbin-libdir StartedAt: 2024-10-17 16:49:43 -0400 (Thu, 17 Oct 2024) EndedAt: 2024-10-17 16:49:52 -0400 (Thu, 17 Oct 2024) EllapsedTime: 9.8 seconds RetCode: 0 Status: OK PackageFile: pfamAnalyzeR_1.4.0.tgz PackageFileSize: 310.8 KiB