Package: pfamAnalyzeR Version: 1.4.0 Command: rm -rf pfamAnalyzeR.buildbin-libdir && mkdir pfamAnalyzeR.buildbin-libdir && F:\biocbuild\bbs-3.19-bioc\R\bin\R.exe CMD INSTALL --build --library=pfamAnalyzeR.buildbin-libdir pfamAnalyzeR_1.4.0.tar.gz StartedAt: 2024-06-27 08:40:00 -0400 (Thu, 27 Jun 2024) EndedAt: 2024-06-27 08:40:13 -0400 (Thu, 27 Jun 2024) EllapsedTime: 12.5 seconds RetCode: 0 Status: OK PackageFile: pfamAnalyzeR_1.4.0.zip PackageFileSize: 316.9 KiB