Package: pfamAnalyzeR Version: 1.4.0 Command: chmod a+r pfamAnalyzeR -R && F:\biocbuild\bbs-3.19-bioc\R\bin\R.exe CMD build --keep-empty-dirs --no-resave-data pfamAnalyzeR StartedAt: 2024-06-26 20:57:14 -0400 (Wed, 26 Jun 2024) EndedAt: 2024-06-26 20:57:26 -0400 (Wed, 26 Jun 2024) EllapsedTime: 12.0 seconds RetCode: 0 Status: OK PackageFile: pfamAnalyzeR_1.4.0.tar.gz PackageFileSize: 351.9 KiB