Package: pgca Version: 1.28.0 Command: rm -rf pgca.buildbin-libdir && mkdir pgca.buildbin-libdir && /Users/biocbuild/BBS/utils/build-universal.sh pgca_1.28.0.tar.gz /Library/Frameworks/R.framework/Resources/bin/R pgca.buildbin-libdir StartedAt: 2024-06-11 12:30:26 -0400 (Tue, 11 Jun 2024) EndedAt: 2024-06-11 12:30:33 -0400 (Tue, 11 Jun 2024) EllapsedTime: 6.6 seconds RetCode: 0 Status: OK PackageFile: pgca_1.28.0.tgz PackageFileSize: 145.1 KiB