Package: pgca Version: 1.28.0 Command: /Library/Frameworks/R.framework/Resources/bin/R CMD build --keep-empty-dirs --no-resave-data pgca StartedAt: 2024-06-10 02:29:05 -0400 (Mon, 10 Jun 2024) EndedAt: 2024-06-10 02:29:18 -0400 (Mon, 10 Jun 2024) EllapsedTime: 13.5 seconds RetCode: 0 Status: OK PackageFile: pgca_1.28.0.tar.gz PackageFileSize: 217.5 KiB