Package: pgca Version: 1.28.0 Command: rm -rf pgca.buildbin-libdir && mkdir pgca.buildbin-libdir && /Users/biocbuild/BBS/utils/build-universal.sh pgca_1.28.0.tar.gz /Library/Frameworks/R.framework/Resources/bin/R pgca.buildbin-libdir StartedAt: 2024-06-10 00:32:00 -0400 (Mon, 10 Jun 2024) EndedAt: 2024-06-10 00:32:05 -0400 (Mon, 10 Jun 2024) EllapsedTime: 4.4 seconds RetCode: 0 Status: OK PackageFile: pgca_1.28.0.tgz PackageFileSize: 144.4 KiB