Package: pgca Version: 1.28.0 Command: rm -rf pgca.buildbin-libdir && mkdir pgca.buildbin-libdir && /Users/biocbuild/BBS/utils/build-universal.sh pgca_1.28.0.tar.gz /Library/Frameworks/R.framework/Resources/bin/R pgca.buildbin-libdir StartedAt: 2024-10-17 16:49:47 -0400 (Thu, 17 Oct 2024) EndedAt: 2024-10-17 16:49:52 -0400 (Thu, 17 Oct 2024) EllapsedTime: 5.4 seconds RetCode: 0 Status: OK PackageFile: pgca_1.28.0.tgz PackageFileSize: 144.5 KiB