Package: pgca Version: 1.28.0 Command: /Library/Frameworks/R.framework/Resources/bin/R CMD build --keep-empty-dirs --no-resave-data pgca StartedAt: 2024-10-16 22:02:25 -0400 (Wed, 16 Oct 2024) EndedAt: 2024-10-16 22:02:39 -0400 (Wed, 16 Oct 2024) EllapsedTime: 13.7 seconds RetCode: 0 Status: OK PackageFile: pgca_1.28.0.tar.gz PackageFileSize: 216.9 KiB