Package: pgca Version: 1.28.0 Command: /home/biocbuild/bbs-3.19-bioc/R/bin/R CMD build --keep-empty-dirs --no-resave-data pgca StartedAt: 2024-10-16 20:06:50 -0400 (Wed, 16 Oct 2024) EndedAt: 2024-10-16 20:06:55 -0400 (Wed, 16 Oct 2024) EllapsedTime: 5.0 seconds RetCode: 0 Status: OK PackageFile: pgca_1.28.0.tar.gz PackageFileSize: 216.9 KiB