Package: pgca Version: 1.28.0 Command: /home/biocbuild/bbs-3.19-bioc/R/bin/R CMD check --install=check:pgca.install-out.txt --library=/home/biocbuild/bbs-3.19-bioc/R/site-library --timings pgca_1.28.0.tar.gz StartedAt: 2024-10-17 03:42:48 -0400 (Thu, 17 Oct 2024) EndedAt: 2024-10-17 03:43:06 -0400 (Thu, 17 Oct 2024) EllapsedTime: 18.1 seconds RetCode: 0 Status: OK CheckDir: pgca.Rcheck Warnings: 0