Package: pgca Version: 1.28.0 Command: rm -rf pgca.buildbin-libdir && mkdir pgca.buildbin-libdir && F:\biocbuild\bbs-3.19-bioc\R\bin\R.exe CMD INSTALL --build --library=pgca.buildbin-libdir pgca_1.28.0.tar.gz StartedAt: 2024-06-27 08:40:02 -0400 (Thu, 27 Jun 2024) EndedAt: 2024-06-27 08:40:17 -0400 (Thu, 27 Jun 2024) EllapsedTime: 14.7 seconds RetCode: 0 Status: OK PackageFile: pgca_1.28.0.zip PackageFileSize: 149.7 KiB