Package: pgca Version: 1.28.0 Command: F:\biocbuild\bbs-3.19-bioc\R\bin\R.exe CMD check --no-multiarch --install=check:pgca.install-out.txt --library=F:\biocbuild\bbs-3.19-bioc\R\library --no-vignettes --timings pgca_1.28.0.tar.gz StartedAt: 2024-06-27 04:41:48 -0400 (Thu, 27 Jun 2024) EndedAt: 2024-06-27 04:42:18 -0400 (Thu, 27 Jun 2024) EllapsedTime: 29.3 seconds RetCode: 0 Status: OK CheckDir: pgca.Rcheck Warnings: 0