Package: phantasus Version: 1.24.0 Command: /Library/Frameworks/R.framework/Resources/bin/R CMD INSTALL phantasus StartedAt: 2024-10-16 16:15:08 -0400 (Wed, 16 Oct 2024) EndedAt: 2024-10-16 16:16:04 -0400 (Wed, 16 Oct 2024) EllapsedTime: 55.3 seconds RetCode: 0 Status: OK