Package: phantasus Version: 1.24.0 Command: rm -rf phantasus.buildbin-libdir && mkdir phantasus.buildbin-libdir && F:\biocbuild\bbs-3.19-bioc\R\bin\R.exe CMD INSTALL --build --library=phantasus.buildbin-libdir phantasus_1.24.0.tar.gz StartedAt: 2024-06-27 08:40:06 -0400 (Thu, 27 Jun 2024) EndedAt: 2024-06-27 08:40:50 -0400 (Thu, 27 Jun 2024) EllapsedTime: 44.4 seconds RetCode: 0 Status: OK PackageFile: phantasus_1.24.0.zip PackageFileSize: 8.313 MiB