Package: phantasus Version: 1.24.0 Command: chmod a+r phantasus -R && F:\biocbuild\bbs-3.19-bioc\R\bin\R.exe CMD build --keep-empty-dirs --no-resave-data phantasus StartedAt: 2024-06-26 20:57:37 -0400 (Wed, 26 Jun 2024) EndedAt: 2024-06-26 20:58:36 -0400 (Wed, 26 Jun 2024) EllapsedTime: 59.8 seconds RetCode: 0 Status: OK PackageFile: phantasus_1.24.0.tar.gz PackageFileSize: 9.543 MiB