Package: phenomis Version: 1.6.4 Command: rm -rf phenomis.buildbin-libdir && mkdir phenomis.buildbin-libdir && /Users/biocbuild/BBS/utils/build-universal.sh phenomis_1.6.4.tar.gz /Library/Frameworks/R.framework/Resources/bin/R phenomis.buildbin-libdir StartedAt: 2024-10-18 19:56:08 -0400 (Fri, 18 Oct 2024) EndedAt: 2024-10-18 19:57:06 -0400 (Fri, 18 Oct 2024) EllapsedTime: 58.0 seconds RetCode: 0 Status: OK PackageFile: phenomis_1.6.4.tgz PackageFileSize: 3.976 MiB