Package: phenomis Version: 1.6.0 Command: rm -rf phenomis.buildbin-libdir && mkdir phenomis.buildbin-libdir && /Users/biocbuild/BBS/utils/build-universal.sh phenomis_1.6.0.tar.gz /Library/Frameworks/R.framework/Resources/bin/R phenomis.buildbin-libdir StartedAt: 2024-06-11 12:30:39 -0400 (Tue, 11 Jun 2024) EndedAt: 2024-06-11 12:31:58 -0400 (Tue, 11 Jun 2024) EllapsedTime: 79.1 seconds RetCode: 0 Status: OK PackageFile: phenomis_1.6.0.tgz PackageFileSize: 3.967 MiB