Package: phenomis Version: 1.6.4 Command: rm -rf phenomis.buildbin-libdir && mkdir phenomis.buildbin-libdir && /Users/biocbuild/BBS/utils/build-universal.sh phenomis_1.6.4.tar.gz /Library/Frameworks/R.framework/Resources/bin/R phenomis.buildbin-libdir StartedAt: 2024-10-17 16:50:00 -0400 (Thu, 17 Oct 2024) EndedAt: 2024-10-17 16:51:42 -0400 (Thu, 17 Oct 2024) EllapsedTime: 102.1 seconds RetCode: 0 Status: OK PackageFile: phenomis_1.6.4.tgz PackageFileSize: 3.968 MiB