Package: phenomis Version: 1.6.4 Command: /Library/Frameworks/R.framework/Resources/bin/R CMD build --keep-empty-dirs --no-resave-data phenomis StartedAt: 2024-10-16 22:03:54 -0400 (Wed, 16 Oct 2024) EndedAt: 2024-10-16 22:08:35 -0400 (Wed, 16 Oct 2024) EllapsedTime: 281.8 seconds RetCode: 0 Status: OK PackageFile: phenomis_1.6.4.tar.gz PackageFileSize: 3.933 MiB