Package: phenomis Version: 1.6.4 Command: /Library/Frameworks/R.framework/Resources/bin/R CMD check --install=check:phenomis.install-out.txt --library=/Library/Frameworks/R.framework/Resources/library --no-vignettes --timings phenomis_1.6.4.tar.gz StartedAt: 2024-10-17 10:49:55 -0400 (Thu, 17 Oct 2024) EndedAt: 2024-10-17 11:03:12 -0400 (Thu, 17 Oct 2024) EllapsedTime: 797.0 seconds RetCode: 0 Status: OK CheckDir: phenomis.Rcheck Warnings: 0