Package: phenomis Version: 1.6.4 Command: E:\biocbuild\bbs-3.19-bioc\R\bin\R.exe CMD INSTALL phenomis StartedAt: 2024-10-16 17:11:28 -0400 (Wed, 16 Oct 2024) EndedAt: 2024-10-16 17:12:23 -0400 (Wed, 16 Oct 2024) EllapsedTime: 55.0 seconds RetCode: 0 Status: OK