Package: phenopath Version: 1.28.0 Command: /Library/Frameworks/R.framework/Resources/bin/R CMD INSTALL phenopath StartedAt: 2024-10-16 16:02:57 -0400 (Wed, 16 Oct 2024) EndedAt: 2024-10-16 16:03:32 -0400 (Wed, 16 Oct 2024) EllapsedTime: 35.1 seconds RetCode: 0 Status: OK