Package: phenopath Version: 1.28.0 Command: /home/biocbuild/bbs-3.19-bioc/R/bin/R CMD build --keep-empty-dirs --no-resave-data phenopath StartedAt: 2024-10-16 20:07:50 -0400 (Wed, 16 Oct 2024) EndedAt: 2024-10-16 20:08:52 -0400 (Wed, 16 Oct 2024) EllapsedTime: 62.2 seconds RetCode: 0 Status: OK PackageFile: phenopath_1.28.0.tar.gz PackageFileSize: 1.265 MiB