Package: phenopath Version: 1.28.0 Command: rm -rf phenopath.buildbin-libdir && mkdir phenopath.buildbin-libdir && E:\biocbuild\bbs-3.19-bioc\R\bin\R.exe CMD INSTALL --build --library=phenopath.buildbin-libdir phenopath_1.28.0.tar.gz StartedAt: 2024-10-17 08:20:41 -0400 (Thu, 17 Oct 2024) EndedAt: 2024-10-17 08:21:24 -0400 (Thu, 17 Oct 2024) EllapsedTime: 43.6 seconds RetCode: 0 Status: OK PackageFile: phenopath_1.28.0.zip PackageFileSize: 1.126 MiB