Package: philr Version: 1.30.0 Command: /home/biocbuild/R/R-beta-2024-04-15_r86425/bin/R CMD build --keep-empty-dirs --no-resave-data philr StartedAt: 2024-05-09 02:30:22 -0000 (Thu, 09 May 2024) EndedAt: 2024-05-09 02:31:17 -0000 (Thu, 09 May 2024) EllapsedTime: 55.1 seconds RetCode: 0 Status: OK PackageFile: philr_1.30.0.tar.gz PackageFileSize: 389.7 KiB