Package: philr Version: 1.30.0 Command: chmod a+r philr -R && E:\biocbuild\bbs-3.19-bioc\R\bin\R.exe CMD build --keep-empty-dirs --no-resave-data philr StartedAt: 2024-10-16 21:06:00 -0400 (Wed, 16 Oct 2024) EndedAt: 2024-10-16 21:06:50 -0400 (Wed, 16 Oct 2024) EllapsedTime: 49.4 seconds RetCode: 0 Status: OK PackageFile: philr_1.30.0.tar.gz PackageFileSize: 323.9 KiB