Package: phosphonormalizer Version: 1.28.0 Command: /home/biocbuild/R/R-beta-2024-04-15_r86425/bin/R CMD check --install=check:phosphonormalizer.install-out.txt --library=/home/biocbuild/R/R-beta-2024-04-15_r86425/site-library --no-vignettes --timings phosphonormalizer_1.28.0.tar.gz StartedAt: 2024-05-09 10:32:44 -0000 (Thu, 09 May 2024) EndedAt: 2024-05-09 10:33:28 -0000 (Thu, 09 May 2024) EllapsedTime: 44.1 seconds RetCode: 0 Status: OK CheckDir: phosphonormalizer.Rcheck Warnings: 0