Package: phosphonormalizer Version: 1.28.0 Command: rm -rf phosphonormalizer.buildbin-libdir && mkdir phosphonormalizer.buildbin-libdir && E:\biocbuild\bbs-3.19-bioc\R\bin\R.exe CMD INSTALL --build --library=phosphonormalizer.buildbin-libdir phosphonormalizer_1.28.0.tar.gz StartedAt: 2024-10-17 08:20:53 -0400 (Thu, 17 Oct 2024) EndedAt: 2024-10-17 08:21:50 -0400 (Thu, 17 Oct 2024) EllapsedTime: 57.1 seconds RetCode: 0 Status: OK PackageFile: phosphonormalizer_1.28.0.zip PackageFileSize: 2.599 MiB