Package: phyloseq Version: 1.48.0 Command: /Library/Frameworks/R.framework/Resources/bin/R CMD build --keep-empty-dirs --no-resave-data phyloseq StartedAt: 2024-10-17 06:27:02 -0400 (Thu, 17 Oct 2024) EndedAt: 2024-10-17 06:29:04 -0400 (Thu, 17 Oct 2024) EllapsedTime: 121.9 seconds RetCode: 1 Status: ERROR PackageFile: None PackageFileSize: NA