Package: phyloseq Version: 1.48.0 Command: /Library/Frameworks/R.framework/Resources/bin/R CMD INSTALL phyloseq StartedAt: 2024-10-16 18:06:55 -0400 (Wed, 16 Oct 2024) EndedAt: 2024-10-16 18:07:25 -0400 (Wed, 16 Oct 2024) EllapsedTime: 30.3 seconds RetCode: 0 Status: OK