Package: phyloseq Version: 1.48.0 Command: /home/biocbuild/R/R-beta-2024-04-15_r86425/bin/R CMD build --keep-empty-dirs --no-resave-data phyloseq StartedAt: 2024-05-09 02:30:56 -0000 (Thu, 09 May 2024) EndedAt: 2024-05-09 02:33:33 -0000 (Thu, 09 May 2024) EllapsedTime: 157.2 seconds RetCode: 0 Status: OK PackageFile: phyloseq_1.48.0.tar.gz PackageFileSize: 4.383 MiB