Package: phyloseq Version: 1.48.0 Command: /home/biocbuild/R/R-beta-2024-04-15_r86425/bin/R CMD check --install=check:phyloseq.install-out.txt --library=/home/biocbuild/R/R-beta-2024-04-15_r86425/site-library --no-vignettes --timings phyloseq_1.48.0.tar.gz StartedAt: 2024-05-09 10:33:17 -0000 (Thu, 09 May 2024) EndedAt: 2024-05-09 10:38:52 -0000 (Thu, 09 May 2024) EllapsedTime: 334.6 seconds RetCode: 0 Status: WARNINGS CheckDir: phyloseq.Rcheck Warnings: 1