Package: phyloseq Version: 1.48.0 Command: /home/biocbuild/R/R-beta-2024-04-15_r86425/bin/R CMD INSTALL phyloseq StartedAt: 2024-05-08 20:52:43 -0000 (Wed, 08 May 2024) EndedAt: 2024-05-08 20:53:18 -0000 (Wed, 08 May 2024) EllapsedTime: 35.5 seconds RetCode: 0 Status: OK