Package: phyloseq Version: 1.48.0 Command: /Library/Frameworks/R.framework/Resources/bin/R CMD build --keep-empty-dirs --no-resave-data phyloseq StartedAt: 2024-10-16 22:06:29 -0400 (Wed, 16 Oct 2024) EndedAt: 2024-10-16 22:11:15 -0400 (Wed, 16 Oct 2024) EllapsedTime: 285.9 seconds RetCode: 0 Status: OK PackageFile: phyloseq_1.48.0.tar.gz PackageFileSize: 6.006 MiB