Package: phyloseq Version: 1.48.0 Command: /Library/Frameworks/R.framework/Resources/bin/R CMD INSTALL phyloseq StartedAt: 2024-10-16 16:25:39 -0400 (Wed, 16 Oct 2024) EndedAt: 2024-10-16 16:26:44 -0400 (Wed, 16 Oct 2024) EllapsedTime: 64.9 seconds RetCode: 0 Status: OK