Package: planet Version: 1.12.0 Command: rm -rf planet.buildbin-libdir && mkdir planet.buildbin-libdir && F:\biocbuild\bbs-3.19-bioc\R\bin\R.exe CMD INSTALL --build --library=planet.buildbin-libdir planet_1.12.0.tar.gz StartedAt: 2024-06-27 08:40:50 -0400 (Thu, 27 Jun 2024) EndedAt: 2024-06-27 08:40:59 -0400 (Thu, 27 Jun 2024) EllapsedTime: 9.1 seconds RetCode: 0 Status: OK PackageFile: planet_1.12.0.zip PackageFileSize: 2.718 MiB