Package: plasmut Version: 1.2.0 Maintainer: Adith Arun MaintainerEmail: adith.3.arun at gmail.com git_url: https://git.bioconductor.org/packages/plasmut git_branch: RELEASE_3_19 git_last_commit: 94b6a2b git_last_commit_date: 2024-04-30 11:52:03 -0400 (Tue, 30 Apr 2024)