Package: plasmut Version: 1.2.0 Command: /Library/Frameworks/R.framework/Resources/bin/R CMD check --install=check:plasmut.install-out.txt --library=/Library/Frameworks/R.framework/Resources/library --no-vignettes --timings plasmut_1.2.0.tar.gz StartedAt: 2024-06-11 01:25:32 -0400 (Tue, 11 Jun 2024) EndedAt: 2024-06-11 01:26:36 -0400 (Tue, 11 Jun 2024) EllapsedTime: 64.4 seconds RetCode: 0 Status: OK CheckDir: plasmut.Rcheck Warnings: 0