Package: plasmut Version: 1.2.0 Command: /home/biocbuild/R/R-beta-2024-04-15_r86425/bin/R CMD INSTALL plasmut StartedAt: 2024-05-08 20:07:02 -0000 (Wed, 08 May 2024) EndedAt: 2024-05-08 20:07:17 -0000 (Wed, 08 May 2024) EllapsedTime: 15.9 seconds RetCode: 0 Status: OK