Package: plasmut Version: 1.2.0 Command: /home/biocbuild/bbs-3.19-bioc/R/bin/R CMD build --keep-empty-dirs --no-resave-data plasmut StartedAt: 2024-10-16 20:09:22 -0400 (Wed, 16 Oct 2024) EndedAt: 2024-10-16 20:11:35 -0400 (Wed, 16 Oct 2024) EllapsedTime: 133.3 seconds RetCode: 0 Status: OK PackageFile: plasmut_1.2.0.tar.gz PackageFileSize: 327.1 KiB