Package: plotgardener Version: 1.10.2 Command: /Library/Frameworks/R.framework/Resources/bin/R CMD build --keep-empty-dirs --no-resave-data plotgardener StartedAt: 2024-10-17 06:31:24 -0400 (Thu, 17 Oct 2024) EndedAt: 2024-10-17 06:32:51 -0400 (Thu, 17 Oct 2024) EllapsedTime: 86.7 seconds RetCode: 0 Status: OK PackageFile: plotgardener_1.10.2.tar.gz PackageFileSize: 2.841 MiB