Package: plotgardener Version: 1.10.0 Command: /Library/Frameworks/R.framework/Resources/bin/R CMD check --install=check:plotgardener.install-out.txt --library=/Library/Frameworks/R.framework/Resources/library --no-vignettes --timings plotgardener_1.10.0.tar.gz StartedAt: 2024-06-11 01:27:34 -0400 (Tue, 11 Jun 2024) EndedAt: 2024-06-11 01:37:26 -0400 (Tue, 11 Jun 2024) EllapsedTime: 592.3 seconds RetCode: 0 Status: WARNINGS CheckDir: plotgardener.Rcheck Warnings: 1