Package: plotgardener Version: 1.10.0 Command: /Library/Frameworks/R.framework/Resources/bin/R CMD INSTALL plotgardener StartedAt: 2024-06-09 16:00:48 -0400 (Sun, 09 Jun 2024) EndedAt: 2024-06-09 16:02:08 -0400 (Sun, 09 Jun 2024) EllapsedTime: 80.2 seconds RetCode: 0 Status: OK