Package: plotgardener Version: 1.10.0 Command: /home/biocbuild/R/R-beta-2024-04-15_r86425/bin/R CMD build --keep-empty-dirs --no-resave-data plotgardener StartedAt: 2024-05-09 02:32:27 -0000 (Thu, 09 May 2024) EndedAt: 2024-05-09 02:34:09 -0000 (Thu, 09 May 2024) EllapsedTime: 102.1 seconds RetCode: 0 Status: OK PackageFile: plotgardener_1.10.0.tar.gz PackageFileSize: 2.516 MiB