Package: plotgardener Version: 1.10.2 Command: /Library/Frameworks/R.framework/Resources/bin/R CMD build --keep-empty-dirs --no-resave-data plotgardener StartedAt: 2024-10-16 22:08:33 -0400 (Wed, 16 Oct 2024) EndedAt: 2024-10-16 22:11:40 -0400 (Wed, 16 Oct 2024) EllapsedTime: 186.5 seconds RetCode: 0 Status: OK PackageFile: plotgardener_1.10.2.tar.gz PackageFileSize: 2.841 MiB