Package: plotgardener Version: 1.10.2 Command: /home/biocbuild/bbs-3.19-bioc/R/bin/R CMD check --install=check:plotgardener.install-out.txt --library=/home/biocbuild/bbs-3.19-bioc/R/site-library --timings plotgardener_1.10.2.tar.gz StartedAt: 2024-10-17 03:48:42 -0400 (Thu, 17 Oct 2024) EndedAt: 2024-10-17 03:54:53 -0400 (Thu, 17 Oct 2024) EllapsedTime: 370.9 seconds RetCode: 0 Status: OK CheckDir: plotgardener.Rcheck Warnings: 0